BEGIN:VCALENDAR
VERSION:2.0
PRODID:-//Hans Alfred Keller Schule - ECPv6.15.20//NONSGML v1.0//EN
CALSCALE:GREGORIAN
METHOD:PUBLISH
X-WR-CALNAME:Hans Alfred Keller Schule
X-ORIGINAL-URL:https://hansalfredkellerschule.de
X-WR-CALDESC:Veranstaltungen für Hans Alfred Keller Schule
REFRESH-INTERVAL;VALUE=DURATION:PT1H
X-Robots-Tag:noindex
X-PUBLISHED-TTL:PT1H
BEGIN:VTIMEZONE
TZID:Europe/Berlin
BEGIN:DAYLIGHT
TZOFFSETFROM:+0100
TZOFFSETTO:+0200
TZNAME:CEST
DTSTART:20250330T010000
END:DAYLIGHT
BEGIN:STANDARD
TZOFFSETFROM:+0200
TZOFFSETTO:+0100
TZNAME:CET
DTSTART:20251026T010000
END:STANDARD
BEGIN:DAYLIGHT
TZOFFSETFROM:+0100
TZOFFSETTO:+0200
TZNAME:CEST
DTSTART:20260329T010000
END:DAYLIGHT
BEGIN:STANDARD
TZOFFSETFROM:+0200
TZOFFSETTO:+0100
TZNAME:CET
DTSTART:20261025T010000
END:STANDARD
BEGIN:DAYLIGHT
TZOFFSETFROM:+0100
TZOFFSETTO:+0200
TZNAME:CEST
DTSTART:20270328T010000
END:DAYLIGHT
BEGIN:STANDARD
TZOFFSETFROM:+0200
TZOFFSETTO:+0100
TZNAME:CET
DTSTART:20271031T010000
END:STANDARD
END:VTIMEZONE
BEGIN:VEVENT
DTSTART;TZID=Europe/Berlin:20260601T193000
DTEND;TZID=Europe/Berlin:20260601T203000
DTSTAMP:20260420T104011
CREATED:20250702T195352Z
LAST-MODIFIED:20250702T195352Z
UID:9977-1780342200-1780345800@hansalfredkellerschule.de
SUMMARY:Schulkonferenz
DESCRIPTION:
URL:https://hansalfredkellerschule.de/termine/schulkonferenz-2/
LOCATION:HAK Deichhaus\, Chemie-Faser-Allee 5\, Siegburg\, 53721\, Deutschland
CATEGORIES:Standort Deichhaus und Zange
END:VEVENT
BEGIN:VEVENT
DTSTART;VALUE=DATE:20260604
DTEND;VALUE=DATE:20260605
DTSTAMP:20260420T104011
CREATED:20250702T195439Z
LAST-MODIFIED:20250702T195439Z
UID:9979-1780531200-1780617599@hansalfredkellerschule.de
SUMMARY:Fronleichnam (schulfrei\, keine Betreuung)
DESCRIPTION:
URL:https://hansalfredkellerschule.de/termine/fronleichnam-schulfrei-keine-betreuung/
LOCATION:HAK Deichhaus und Zange
CATEGORIES:Standort Deichhaus und Zange
END:VEVENT
BEGIN:VEVENT
DTSTART;VALUE=DATE:20260605
DTEND;VALUE=DATE:20260606
DTSTAMP:20260420T104011
CREATED:20250702T195552Z
LAST-MODIFIED:20250702T195552Z
UID:9981-1780617600-1780703999@hansalfredkellerschule.de
SUMMARY:Ausgleichstag (schulfrei\, Betreuung nach Anmeldung möglich!)
DESCRIPTION:
URL:https://hansalfredkellerschule.de/termine/ausgleichstag-schulfrei-betreuung-nach-anmeldung-moeglich/
LOCATION:HAK Deichhaus und Zange
CATEGORIES:Standort Deichhaus und Zange
END:VEVENT
BEGIN:VEVENT
DTSTART;VALUE=DATE:20260609
DTEND;VALUE=DATE:20260610
DTSTAMP:20260420T104011
CREATED:20250702T195633Z
LAST-MODIFIED:20250702T195706Z
UID:9983-1780963200-1781049599@hansalfredkellerschule.de
SUMMARY:Abschlussfahrt der Fahrradausbildung am Standort Zange
DESCRIPTION:
URL:https://hansalfredkellerschule.de/termine/abschlussfahrt-des-standorts-zange/
LOCATION:HAK Zange\, Bonner Straße 64\, Siegburg\, 53721\, Deutschland
CATEGORIES:Standort Zange
END:VEVENT
BEGIN:VEVENT
DTSTART;VALUE=DATE:20260616
DTEND;VALUE=DATE:20260617
DTSTAMP:20260420T104011
CREATED:20250702T195754Z
LAST-MODIFIED:20250702T201657Z
UID:9987-1781568000-1781654399@hansalfredkellerschule.de
SUMMARY:Abschlussfahrt der Radfahrausbildung am Standort Deichhaus
DESCRIPTION:
URL:https://hansalfredkellerschule.de/termine/abschlussfahrt-der-radfahrausbildung-am-stndort-deichhaus/
LOCATION:HAK Deichhaus\, Chemie-Faser-Allee 5\, Siegburg\, 53721\, Deutschland
CATEGORIES:Standort Deichhaus
END:VEVENT
BEGIN:VEVENT
DTSTART;VALUE=DATE:20260620
DTEND;VALUE=DATE:20260622
DTSTAMP:20260420T104011
CREATED:20250915T183308Z
LAST-MODIFIED:20250915T183308Z
UID:10648-1781913600-1782086399@hansalfredkellerschule.de
SUMMARY:Stadtteilfest am Deichhaus
DESCRIPTION:
URL:https://hansalfredkellerschule.de/termine/stadtteilfest-am-deichhaus/
LOCATION:HAK Deichhaus\, Chemie-Faser-Allee 5\, Siegburg\, 53721\, Deutschland
CATEGORIES:Standort Deichhaus
END:VEVENT
END:VCALENDAR