BEGIN:VCALENDAR
VERSION:2.0
PRODID:-//Hans Alfred Keller Schule - ECPv6.15.20//NONSGML v1.0//EN
CALSCALE:GREGORIAN
METHOD:PUBLISH
X-ORIGINAL-URL:https://hansalfredkellerschule.de
X-WR-CALDESC:Veranstaltungen für Hans Alfred Keller Schule
REFRESH-INTERVAL;VALUE=DURATION:PT1H
X-Robots-Tag:noindex
X-PUBLISHED-TTL:PT1H
BEGIN:VTIMEZONE
TZID:Europe/Berlin
BEGIN:DAYLIGHT
TZOFFSETFROM:+0100
TZOFFSETTO:+0200
TZNAME:CEST
DTSTART:20240331T010000
END:DAYLIGHT
BEGIN:STANDARD
TZOFFSETFROM:+0200
TZOFFSETTO:+0100
TZNAME:CET
DTSTART:20241027T010000
END:STANDARD
BEGIN:DAYLIGHT
TZOFFSETFROM:+0100
TZOFFSETTO:+0200
TZNAME:CEST
DTSTART:20250330T010000
END:DAYLIGHT
BEGIN:STANDARD
TZOFFSETFROM:+0200
TZOFFSETTO:+0100
TZNAME:CET
DTSTART:20251026T010000
END:STANDARD
BEGIN:DAYLIGHT
TZOFFSETFROM:+0100
TZOFFSETTO:+0200
TZNAME:CEST
DTSTART:20260329T010000
END:DAYLIGHT
BEGIN:STANDARD
TZOFFSETFROM:+0200
TZOFFSETTO:+0100
TZNAME:CET
DTSTART:20261025T010000
END:STANDARD
END:VTIMEZONE
BEGIN:VEVENT
DTSTART;TZID=Europe/Berlin:20251112T170000
DTEND;TZID=Europe/Berlin:20251112T190000
DTSTAMP:20260419T143953
CREATED:20250702T191947Z
LAST-MODIFIED:20250702T191947Z
UID:9918-1762966800-1762974000@hansalfredkellerschule.de
SUMMARY:Städtischer Martinszug (Start und Ende auf dem Siegburger Marktplatz)
DESCRIPTION:
URL:https://hansalfredkellerschule.de/termine/staedtischer-martinszug-start-und-ende-auf-dem-siegburger-marktplatz/
CATEGORIES:Standort Deichhaus und Zange
END:VEVENT
END:VCALENDAR