BEGIN:VCALENDAR
VERSION:2.0
PRODID:-//Hans Alfred Keller Schule - ECPv6.15.20//NONSGML v1.0//EN
CALSCALE:GREGORIAN
METHOD:PUBLISH
X-WR-CALNAME:Hans Alfred Keller Schule
X-ORIGINAL-URL:https://hansalfredkellerschule.de
X-WR-CALDESC:Veranstaltungen für Hans Alfred Keller Schule
REFRESH-INTERVAL;VALUE=DURATION:PT1H
X-Robots-Tag:noindex
X-PUBLISHED-TTL:PT1H
BEGIN:VTIMEZONE
TZID:Europe/Berlin
BEGIN:DAYLIGHT
TZOFFSETFROM:+0100
TZOFFSETTO:+0200
TZNAME:CEST
DTSTART:20240331T010000
END:DAYLIGHT
BEGIN:STANDARD
TZOFFSETFROM:+0200
TZOFFSETTO:+0100
TZNAME:CET
DTSTART:20241027T010000
END:STANDARD
BEGIN:DAYLIGHT
TZOFFSETFROM:+0100
TZOFFSETTO:+0200
TZNAME:CEST
DTSTART:20250330T010000
END:DAYLIGHT
BEGIN:STANDARD
TZOFFSETFROM:+0200
TZOFFSETTO:+0100
TZNAME:CET
DTSTART:20251026T010000
END:STANDARD
BEGIN:DAYLIGHT
TZOFFSETFROM:+0100
TZOFFSETTO:+0200
TZNAME:CEST
DTSTART:20260329T010000
END:DAYLIGHT
BEGIN:STANDARD
TZOFFSETFROM:+0200
TZOFFSETTO:+0100
TZNAME:CET
DTSTART:20261025T010000
END:STANDARD
END:VTIMEZONE
BEGIN:VEVENT
DTSTART;TZID=Europe/Berlin:20251109T120000
DTEND;TZID=Europe/Berlin:20251109T150000
DTSTAMP:20260419T143554
CREATED:20250915T181933Z
LAST-MODIFIED:20250915T181933Z
UID:10633-1762689600-1762700400@hansalfredkellerschule.de
SUMMARY:Zanger Gabentisch
DESCRIPTION:
URL:https://hansalfredkellerschule.de/termine/zanger-gabentisch/
LOCATION:HAK Zange\, Bonner Straße 64\, Siegburg\, 53721\, Deutschland
CATEGORIES:Standort Zange
END:VEVENT
END:VCALENDAR